BEGIN:VCALENDAR
VERSION:2.0
PRODID:-//Deutsche Gesellschaft für Information &amp; Wissen e.V. - ECPv6.15.20//NONSGML v1.0//EN
CALSCALE:GREGORIAN
METHOD:PUBLISH
X-ORIGINAL-URL:https://dgi-info.de
X-WR-CALDESC:Veranstaltungen für Deutsche Gesellschaft für Information &amp; Wissen e.V.
REFRESH-INTERVAL;VALUE=DURATION:PT1H
X-Robots-Tag:noindex
X-PUBLISHED-TTL:PT1H
BEGIN:VTIMEZONE
TZID:Europe/Berlin
BEGIN:DAYLIGHT
TZOFFSETFROM:+0100
TZOFFSETTO:+0200
TZNAME:CEST
DTSTART:20240331T010000
END:DAYLIGHT
BEGIN:STANDARD
TZOFFSETFROM:+0200
TZOFFSETTO:+0100
TZNAME:CET
DTSTART:20241027T010000
END:STANDARD
BEGIN:DAYLIGHT
TZOFFSETFROM:+0100
TZOFFSETTO:+0200
TZNAME:CEST
DTSTART:20250330T010000
END:DAYLIGHT
BEGIN:STANDARD
TZOFFSETFROM:+0200
TZOFFSETTO:+0100
TZNAME:CET
DTSTART:20251026T010000
END:STANDARD
BEGIN:DAYLIGHT
TZOFFSETFROM:+0100
TZOFFSETTO:+0200
TZNAME:CEST
DTSTART:20260329T010000
END:DAYLIGHT
BEGIN:STANDARD
TZOFFSETFROM:+0200
TZOFFSETTO:+0100
TZNAME:CET
DTSTART:20261025T010000
END:STANDARD
END:VTIMEZONE
BEGIN:VEVENT
DTSTART;TZID=Europe/Berlin:20250311T093000
DTEND;TZID=Europe/Berlin:20250311T133000
DTSTAMP:20260423T204458
CREATED:20231214T195935Z
LAST-MODIFIED:20250225T104230Z
UID:39602-1741685400-1741699800@dgi-info.de
SUMMARY:Wissensmanagement in Zeiten des Generationenwandels
DESCRIPTION:Anmelden\n\n\n\n\n\n\n\n\n\n\nAktuell und in den kommenden Jahren sehen wir uns mit einem Generationenwandel konfrontiert\, der noch dringender als in der Vergangenheit kompetente Antworten auf die Fragen erfordert: \n\n\n\n\nWie geht man mit den Lücken um\, die entstehen\, wenn eine große Anzahl an Mitarbeitern im gleichen Zeitraum das Unternehmen\, die Organisation\, die Einrichtung verlassen\n\n\n\nWie erschließt man das am Arbeitsplatz gewonnene Wissen und die in Projekten gesammelten Erfahrungen der ausscheidenden Mitarbeiterinnen und Mitarbeitern\, und wie gibt man es an neue Mitarbeiterinnen und Mitarbeiter weiter?\n\n\n\nUnd umgekehrt: Wie integriert man „frisches“\, „junges“ Wissen effektiv in das Unternehmen\n\n\n\nWas bedeutet es\, wenn unterschiedliche Werte\, Erwartungen und Gewohnheiten von Mitarbeiterinnen und Mitarbeitern verschiedener Generationen aufeinandertreffen?\n\n\n\nWie können sich Organisationen darauf einstellen\, mit welchen organisatorischen und kulturellen Rahmenbedingen eine konstruktive Zusammenarbeit befördern?\n\n\n\nUnd vor allem: Wie können „alt“ und „jung“ voneinander lernen und sich gemeinsam weiterentwickeln?\n\n\n\n\nDas Seminar stellt bewährte Methoden und Werkzeuge aus dem Wissensmanagement und der Personalentwicklung vor\, mit denen diese Herausforderungen gemeistert werden können \n\n\n\n\n\n\n\n\n\nReferentin\n\n\n\nGudrun Schmidt ist Beraterin und Trainerin für Informationsorganisation\, Wissensmanagement und Kommunikation mit langjähriger Berufspraxis in der Informationsbranche sowie in internationalen Projekten. \n\n\n\nTeilnehmeranzahl\n\n\n\nmaximal 10 Personen \n\n\n\nTool / Technik\n\n\n\nBenötigt wird ein internetfähiges Endgerät (PC oder Laptop). In der Regel finden die Seminare über Zoom statt. Für Zoom benötigen Sie zudem eine Webcam sowie ein Headset oder ein anderes Audiosystem. \n\n\n\nKosten\n\n\n\nEUR 88\,00- zzgl. 7% MwSt. (DGI-Mitglieder)EUR 98\,00- zzgl. 7% MwSt. (Nicht-Mitglieder)
URL:https://dgi-info.de/event/wissensmanagement-in-zeiten-des-generationenwandels/
LOCATION:online\, Deutschland
CATEGORIES:DGI-Praxisseminar
ATTACH;FMTTYPE=image/jpeg:https://dgi-info.de/wp-content/uploads/2019/06/lamp-1315735_1920-e1625597989156.jpg
ORGANIZER;CN="Deutsche Gesellschaft f%C3%BCr Information und Wissen e.V. (DGI)":MAILTO:mail@dgi-info.de
END:VEVENT
END:VCALENDAR