BEGIN:VCALENDAR
VERSION:2.0
PRODID:-//Deutsche Gesellschaft für Information &amp; Wissen e.V. - ECPv6.15.20//NONSGML v1.0//EN
CALSCALE:GREGORIAN
METHOD:PUBLISH
X-ORIGINAL-URL:https://dgi-info.de
X-WR-CALDESC:Veranstaltungen für Deutsche Gesellschaft für Information &amp; Wissen e.V.
REFRESH-INTERVAL;VALUE=DURATION:PT1H
X-Robots-Tag:noindex
X-PUBLISHED-TTL:PT1H
BEGIN:VTIMEZONE
TZID:Europe/Berlin
BEGIN:DAYLIGHT
TZOFFSETFROM:+0100
TZOFFSETTO:+0200
TZNAME:CEST
DTSTART:20250330T010000
END:DAYLIGHT
BEGIN:STANDARD
TZOFFSETFROM:+0200
TZOFFSETTO:+0100
TZNAME:CET
DTSTART:20251026T010000
END:STANDARD
BEGIN:DAYLIGHT
TZOFFSETFROM:+0100
TZOFFSETTO:+0200
TZNAME:CEST
DTSTART:20260329T010000
END:DAYLIGHT
BEGIN:STANDARD
TZOFFSETFROM:+0200
TZOFFSETTO:+0100
TZNAME:CET
DTSTART:20261025T010000
END:STANDARD
BEGIN:DAYLIGHT
TZOFFSETFROM:+0100
TZOFFSETTO:+0200
TZNAME:CEST
DTSTART:20270328T010000
END:DAYLIGHT
BEGIN:STANDARD
TZOFFSETFROM:+0200
TZOFFSETTO:+0100
TZNAME:CET
DTSTART:20271031T010000
END:STANDARD
END:VTIMEZONE
BEGIN:VEVENT
DTSTART;TZID=Europe/Berlin:20260427T140000
DTEND;TZID=Europe/Berlin:20260427T153000
DTSTAMP:20260423T173150
CREATED:20250827T155318Z
LAST-MODIFIED:20260325T140303Z
UID:45442-1777298400-1777303800@dgi-info.de
SUMMARY:Künstliche Intelligenz in der Öffentlichkeitsarbeit
DESCRIPTION:Anmelden\n\n\n\n\n\n\n\n\nKünstliche Intelligenz (KI) verändert die Art und Weise\, wie wir mit Informationen und Wissen umgehen \n\n\n\n– und bietet auch im Bereich der Öffentlichkeitsarbeit enormes Potenzial. In diesem praxisorientierten Workshop lernen Sie\, wie Sie KI gezielt einsetzen können\, um die Kommunikations- und Öffentlichkeitsarbeit Ihrer Institution zukunftsorientiert zu gestalten. \n\n\n\nSeminarinhalte\n\n\n\n\nKI-Grundlagen für die Öffentlichkeitsarbeit\n\n\n\nEffiziente Content-Kreation mit KI: Texte\, Bilder\, Audios\, Videos\n\n\n\nSocial Media und KI: Mehr Reichweite mit geringem Aufwand\n\n\n\nRechtliche und ethische Herausforderungen der KI-Nutzung\n\n\n\nPraxisbeispiele und nützliche Tools\n\n\n\n\n\n\n\n\nReferent\n\n\n\nDavid Röthler ist Jurist\, Berater\, Erwachsenenbildner und Universitätslehrbeauftragter zu Bildung und Medien. Er beschäftigtsich seit einigen Jahren intensiv mit dem Thema „Generative KI“ in der Praxis und hat 20 Jahre Erfahrung als Berater für EU finanzierte Projekte. David Röthler ist Geschäftsführer des Beratungsunternehmens Milenu.at: https://david.roethler.at/ \n\n\n\nTeilnehmeranzahl\n\n\n\nmaximal 15 Personen \n\n\n\nTool / Technik\n\n\n\nBenötigt wird ein internetfähiges Endgerät (PC oder Laptop). In der Regel finden die Seminare über Zoom statt. Für Zoom benötigen Sie eine Webcam sowie ein Headset oder ein anderes Audiosystem. \n\n\n\nKosten\n\n\n\nEUR 88\,00- zzgl. 7% MwSt. (DGI-Mitglieder)EUR 104\,00- zzgl. 7% MwSt. (Nicht-Mitglieder)
URL:https://dgi-info.de/event/kuenstliche-intelligenz-in-der-oeffentlichkeitsarbeit/
LOCATION:online\, Deutschland
CATEGORIES:DGI-Praxisseminar
ATTACH;FMTTYPE=image/png:https://dgi-info.de/wp-content/uploads/Gemini_Generated_Image_pr2wypr2wypr2wyp-e1764671581692.png
ORGANIZER;CN="Deutsche Gesellschaft f%C3%BCr Information und Wissen e.V. (DGI)":MAILTO:mail@dgi-info.de
END:VEVENT
END:VCALENDAR