BEGIN:VCALENDAR
VERSION:2.0
PRODID:-//Deutsche Gesellschaft für Information &amp; Wissen e.V. - ECPv6.15.20//NONSGML v1.0//EN
CALSCALE:GREGORIAN
METHOD:PUBLISH
X-WR-CALNAME:Deutsche Gesellschaft für Information &amp; Wissen e.V.
X-ORIGINAL-URL:https://dgi-info.de
X-WR-CALDESC:Veranstaltungen für Deutsche Gesellschaft für Information &amp; Wissen e.V.
REFRESH-INTERVAL;VALUE=DURATION:PT1H
X-Robots-Tag:noindex
X-PUBLISHED-TTL:PT1H
BEGIN:VTIMEZONE
TZID:Europe/Berlin
BEGIN:DAYLIGHT
TZOFFSETFROM:+0100
TZOFFSETTO:+0200
TZNAME:CEST
DTSTART:20230326T010000
END:DAYLIGHT
BEGIN:STANDARD
TZOFFSETFROM:+0200
TZOFFSETTO:+0100
TZNAME:CET
DTSTART:20231029T010000
END:STANDARD
BEGIN:DAYLIGHT
TZOFFSETFROM:+0100
TZOFFSETTO:+0200
TZNAME:CEST
DTSTART:20240331T010000
END:DAYLIGHT
BEGIN:STANDARD
TZOFFSETFROM:+0200
TZOFFSETTO:+0100
TZNAME:CET
DTSTART:20241027T010000
END:STANDARD
BEGIN:DAYLIGHT
TZOFFSETFROM:+0100
TZOFFSETTO:+0200
TZNAME:CEST
DTSTART:20250330T010000
END:DAYLIGHT
BEGIN:STANDARD
TZOFFSETFROM:+0200
TZOFFSETTO:+0100
TZNAME:CET
DTSTART:20251026T010000
END:STANDARD
END:VTIMEZONE
BEGIN:VEVENT
DTSTART;TZID=Europe/Berlin:20241210T093000
DTEND;TZID=Europe/Berlin:20241211T130000
DTSTAMP:20260420T194910
CREATED:20230116T130739Z
LAST-MODIFIED:20240801T122650Z
UID:31542-1733823000-1733922000@dgi-info.de
SUMMARY:Kommunikation für Information Professionals – Zielorientiert und erfolgreich kommunizieren
DESCRIPTION:Anmelden\n\n\n\n\n\n\n\n\n\n\nBeschreibung Modul 1 der Reihe Kommunikation für Information Professionals\n\n\n\n \n\n\n\nKommunikation und rhetorische Fähigkeiten sind Schlüsselkompetenzen für den beruflichen Erfolg. Dies gilt besonders für Berufe\, in denen der Transfer von Informationen und Wissen im Zentrum steht und die sich im Zeitalter von Internet\, Open Access\, automatischen Inhaltserschließungsmethoden und künstlicher Intelligenz immer wieder neu positionieren müssen. \n\n\n\n\n\n\n\n\n\n\n\nIn diesem Seminar lernen Sie\n\n\n\n\ngrundlegenden Modelle und Thesen zur Kommunikation\,\n\n\n\nKommunikation\, Kommunikationsprozesse und -probleme besser zu verstehen\,\n\n\n\nKommunikationsstile sowie die Merkmale eines überzeugenden Auftritts\n\n\n\nsich selbst sowie ihre Produkte und Serviceangebote verständlich und selbstbewusst zu präsentieren\,\n\n\n\nGespräche professionell vorzubereiten\, durchzuführen und abzuschließen.\n\n\n\n\nAbschließend erhalten Sie Literaturempfehlungen\, Links und Tipps zur weiteren Beschäftigung mit den Seminarthemen. \n\n\n\n\n\n\n\n\n\n\n\nDieses DGI-Praxisseminar kann auch in Kombination mit dem DGI-Praxisseminar Rhetorik und Präsentationstechniken: Ideen und Produkte überzeugend vermitteln besucht werden.\n\n\n\n\n\n\n\n\n\nReferentin\n\n\n\nGudrun Schmidt ist Beraterin und Trainerin für Informationsorganisation\, Wissensmanagement und Kommunikation mit langjähriger Berufspraxis in der Informationsbranche sowie in internationalen Projekten. \n\n\n\nTeilnehmeranzahl\n\n\n\nmaximal 10 Personen \n\n\n\nTool / Technik\n\n\n\nBenötigt wird ein internetfähiges Endgerät (PC oder Laptop). In der Regel finden die Seminare über Zoom statt. Für Zoom benötigen Sie eine Webcam sowie ein Headset oder ein anderes Audiosystem. \n\n\n\nKosten\n\n\n\nEUR 158\,00- zzgl. 7% MwSt. (DGI-Mitglieder)EUR 188\,00- zzgl. 7% MwSt. (Nicht-Mitglieder)
URL:https://dgi-info.de/event/kommunikation-fuer-information-professionals-zielorientiert-und-erfolgreich-kommunizieren/
LOCATION:online\, Deutschland
CATEGORIES:DGI-Praxisseminar
ATTACH;FMTTYPE=image/jpeg:https://dgi-info.de/wp-content/uploads/2015/01/finger-3653377_1920.jpg
ORGANIZER;CN="Deutsche Gesellschaft f%C3%BCr Information und Wissen e.V. (DGI)":MAILTO:mail@dgi-info.de
END:VEVENT
END:VCALENDAR