BEGIN:VCALENDAR
VERSION:2.0
PRODID:-//Deutsche Gesellschaft für Information &amp; Wissen e.V. - ECPv6.15.20//NONSGML v1.0//EN
CALSCALE:GREGORIAN
METHOD:PUBLISH
X-ORIGINAL-URL:https://dgi-info.de
X-WR-CALDESC:Veranstaltungen für Deutsche Gesellschaft für Information &amp; Wissen e.V.
REFRESH-INTERVAL;VALUE=DURATION:PT1H
X-Robots-Tag:noindex
X-PUBLISHED-TTL:PT1H
BEGIN:VTIMEZONE
TZID:Europe/Berlin
BEGIN:DAYLIGHT
TZOFFSETFROM:+0100
TZOFFSETTO:+0200
TZNAME:CEST
DTSTART:20240331T010000
END:DAYLIGHT
BEGIN:STANDARD
TZOFFSETFROM:+0200
TZOFFSETTO:+0100
TZNAME:CET
DTSTART:20241027T010000
END:STANDARD
BEGIN:DAYLIGHT
TZOFFSETFROM:+0100
TZOFFSETTO:+0200
TZNAME:CEST
DTSTART:20250330T010000
END:DAYLIGHT
BEGIN:STANDARD
TZOFFSETFROM:+0200
TZOFFSETTO:+0100
TZNAME:CET
DTSTART:20251026T010000
END:STANDARD
BEGIN:DAYLIGHT
TZOFFSETFROM:+0100
TZOFFSETTO:+0200
TZNAME:CEST
DTSTART:20260329T010000
END:DAYLIGHT
BEGIN:STANDARD
TZOFFSETFROM:+0200
TZOFFSETTO:+0100
TZNAME:CET
DTSTART:20261025T010000
END:STANDARD
END:VTIMEZONE
BEGIN:VEVENT
DTSTART;TZID=Europe/Berlin:20250424T090000
DTEND;TZID=Europe/Berlin:20250424T130000
DTSTAMP:20260420T112521
CREATED:20250321T123124Z
LAST-MODIFIED:20250321T123129Z
UID:44841-1745485200-1745499600@dgi-info.de
SUMMARY:KI-Chatbots zur Erschließung von Online-Katalogen?
DESCRIPTION:Anmelden\n\n\n\n\n\n\n\n\n\n\nWie funktionieren Katalog-Chatbots und RAG-Systeme\, was können sie\, was können sie nicht? Was kann man ihnen durch geschicktes „Meta-Prompting“ beibringen\, und was muss programmiert werden? \n\n\n\n\nLernziele: Funktionsweise von Chatbots und RAG-Systemen verstehen\, Fähigkeiten und Fehler von KI-Modellen einschätzen können\, Basiskenntnisse Prompting\n\n\n\nSchwerpunkte: Praxistauglichkeit der Anwendung von KI-Modellen auf bestehenden Datensammlungen\n\n\n\n\nBenötigte Vorkenntnisse (der Teilnehmenden): Grundkenntnisse in den Begrifflichkeiten von KI (ChatGPT\, LLM\, Tokens etc.) \n\n\n\n\n\nReferenten:\n\n\n\nTillmann Scheel ist Gründer und CEO eines der weltweit ersten KI-Chatbots für Bibliotheken: AboutSomethinK (ASK). Er hat auch AVA entwickelt\, eine Online-Videoplattform für öffentliche und Universitätsbibliotheken.Moritz Mutter ist Leiter Digitale Welten VÖBB \n\n\n\nTeilnehmeranzahl\n\n\n\nmaximal 15 Personen \n\n\n\nTool / Technik\n\n\n\nBenötigt wird ein internetfähiges Endgerät (PC oder Laptop). In der Regel finden die Seminare über Zoom statt. Für Zoom benötigen Sie eine Webcam sowie ein Headset oder ein anderes Audiosystem. \n\n\n\nChatGPT Account ist von Vorteil \n\n\n\nKosten\n\n\n\nEUR 88\,00- zzgl. 7% MwSt. (DGI-Mitglieder)EUR 98\,00- zzgl. 7% MwSt. (Nicht-Mitglieder)
URL:https://dgi-info.de/event/ki-chatbots-zur-erschliessung-von-online-katalogen/
LOCATION:online\, Deutschland
CATEGORIES:DGI-Praxisseminar
ATTACH;FMTTYPE=image/jpeg:https://dgi-info.de/wp-content/uploads/Generated-Image-March-21-2025-1_18PM.png-e1742559988630.jpeg
ORGANIZER;CN="Deutsche Gesellschaft f%C3%BCr Information und Wissen e.V. (DGI)":MAILTO:mail@dgi-info.de
END:VEVENT
BEGIN:VEVENT
DTSTART;TZID=Europe/Berlin:20250428T093000
DTEND;TZID=Europe/Berlin:20250428T120000
DTSTAMP:20260420T112521
CREATED:20241218T131415Z
LAST-MODIFIED:20250221T133122Z
UID:44341-1745832600-1745841600@dgi-info.de
SUMMARY:KI und Internetrecherche - ein Update
DESCRIPTION:Anmelden\n\n\n\n\n\n\n\n\n\n\nSei dem Launch von Deepseek ändert sich die Landschaft der Recherchetools im WWW stark und ständig. Auch wer sich schon mit Recherche und KI beschäftigt hat\, wird feststellen\, dass sich nicht nur die Möglichkeiten\, sondern auch die Grundlagen verändern. \n\n\n\nIn diesem Update zu „KI und Recherche“ schauen wir uns deshalb die an sich schon bekannten Tools (z. B. Bings Copilot\, Phind und Perplexity) an und vergleichen\, was sich in den letzten Monaten geändert hat. Zudem werden wir weitere Tools kennenlernen\, die bisher nicht im Fokus standen – welche das genau sein werden\, entscheidet sich erst kurz vor dem Termin. \n\n\n\n \n\n\n\nMethoden: Impulsvortrag\, Kleingruppenarbeit für die Testphase\, Diskussion \n\n\n\n\n\n\n\n\n\nReferentin\n\n\n\nHeike Baller bietet seit 1995 Recherchedienstleistungen an. Seit 2013 gibt sie ihr Wissen rund um Suchmaschinen\, OPAC und Recherchestrategie in Seminaren und Workshops weiter\, u. a. an der Universität zu Köln\, dem ZBIW an der TH in Köln und bei verschiedenen Bildungsträgern in der Lehrer*innenfortbildung. \n\n\n\nTeilnehmeranzahl\n\n\n\nmaximal 20 Personen \n\n\n\nVoraussetzung: \n\n\n\nSie wissen bereits\, wie textgenerative KI grundsätzlich arbeitet\, wo ihre Chancen und Grenzen liegen.  \n\n\n\nAuch Erfahrung mit den Platzhirschen  KI-gestützter Recherchetools (Internetrecherche\, keine Literaturrecherche) ist sinnvoll.  \n\n\n\nEinige Tools verlangen einen kostenlosen Account – Sie sollten dazu bereit sein\, solche Accounts einzurichten; meist reicht dazu eine E-Mai.-Adresse. \n\n\n\nTool / Technik\n\n\n\nBenötigt wird ein internetfähiges Endgerät (PC oder Laptop). In der Regel finden die Seminare über Zoom statt. Für Zoom benötigen Sie eine Webcam sowie ein Headset oder ein anderes Audiosystem. \n\n\n\nKosten\n\n\n\nEUR 88\,00- zzgl. 7% MwSt. (DGI-Mitglieder)EUR 98\,00- zzgl. 7% MwSt. (Nicht-Mitglieder)
URL:https://dgi-info.de/event/ki-und-recherche-ein-update-2/
LOCATION:online\, Deutschland
CATEGORIES:DGI-Praxisseminar
ATTACH;FMTTYPE=image/jpeg:https://dgi-info.de/wp-content/uploads/laptop-5673901_640-e1736956748981.jpg
ORGANIZER;CN="Deutsche Gesellschaft f%C3%BCr Information und Wissen e.V. (DGI)":MAILTO:mail@dgi-info.de
END:VEVENT
END:VCALENDAR