BEGIN:VCALENDAR
VERSION:2.0
PRODID:-//Deutsche Gesellschaft für Information &amp; Wissen e.V. - ECPv6.15.20//NONSGML v1.0//EN
CALSCALE:GREGORIAN
METHOD:PUBLISH
X-ORIGINAL-URL:https://dgi-info.de
X-WR-CALDESC:Veranstaltungen für Deutsche Gesellschaft für Information &amp; Wissen e.V.
REFRESH-INTERVAL;VALUE=DURATION:PT1H
X-Robots-Tag:noindex
X-PUBLISHED-TTL:PT1H
BEGIN:VTIMEZONE
TZID:Europe/Berlin
BEGIN:DAYLIGHT
TZOFFSETFROM:+0100
TZOFFSETTO:+0200
TZNAME:CEST
DTSTART:20220327T010000
END:DAYLIGHT
BEGIN:STANDARD
TZOFFSETFROM:+0200
TZOFFSETTO:+0100
TZNAME:CET
DTSTART:20221030T010000
END:STANDARD
BEGIN:DAYLIGHT
TZOFFSETFROM:+0100
TZOFFSETTO:+0200
TZNAME:CEST
DTSTART:20230326T010000
END:DAYLIGHT
BEGIN:STANDARD
TZOFFSETFROM:+0200
TZOFFSETTO:+0100
TZNAME:CET
DTSTART:20231029T010000
END:STANDARD
BEGIN:DAYLIGHT
TZOFFSETFROM:+0100
TZOFFSETTO:+0200
TZNAME:CEST
DTSTART:20240331T010000
END:DAYLIGHT
BEGIN:STANDARD
TZOFFSETFROM:+0200
TZOFFSETTO:+0100
TZNAME:CET
DTSTART:20241027T010000
END:STANDARD
END:VTIMEZONE
BEGIN:VEVENT
DTSTART;TZID=Europe/Berlin:20230418T093000
DTEND;TZID=Europe/Berlin:20230418T130000
DTSTAMP:20260423T204150
CREATED:20201216T164806Z
LAST-MODIFIED:20231219T144436Z
UID:15383-1681810200-1681822800@dgi-info.de
SUMMARY:Storytelling für Information Professionals
DESCRIPTION:Anmelden\n\n\n\n\n\n\n\n\n\n\nBeschreibung\n\n\n\nEs klingt trivial\, aber als Unternehmer*in oder Marketer genügt es längst nicht mehr\, informativ schreiben zu können – Sie sollten Ihre „Marke“ auch mit einer guten Story füllen und darauf gründen. \n\n\n\nVielen von uns ist dieses „Geschichtenerzählen“ immer noch unangenehm\, bringen es doch häufig mit den kleinen „Übertreibungen“ des berühmten Baron von Münchhausen in Verbindung – andere wiederum erzählen ihre Geschichte so gut\, dass dahinter der Markenkern zu verschwimmen droht. \n\n\n\nAber natürlich geht es auch anders. Wir steigen in das Thema „Storytelling“ ein\, klären\, was es mit dem Begriff auf sich hat\, wie Sie Ihren Markenkern finden und wie Sie diesen mit einer guten „Story“ gründen\, auf Dauer stellen und weiterentwickeln. \n\n\n\nIm Seminar lernen Sie: \n\n\n\n• Ihre Marke zu erkennen und zu definieren• das Prinzip des Storytelling• Anwenden des Storytelling auf Ihre Marke / Ihr Unternehmen• Ihre Zielgruppe zu finden• die Bedürfnisse Ihrer Zielgruppe zu erkennen• Herausforderungen beim Texten für Ihre jeweilige Zielgruppe zu erkennen• Wettbewerber und deren Stories zu analysieren• aus der Sicht für Dritte zu schreiben• Ihre Story als Visitenkarte für sich und Ihr Unternehmen einzusetzen• ein rundes Bild in der Aussendarstellung zu zeichnen• Ihre Story lebendig zu halten• Spannung zu erzeugen \n\n\n\nTheoretische Teile und praktische Übungen wechseln sich im Praxisseminar ab – und Sie werden viel Raum zur Erarbeitung Ihrer eigenen Story haben – und diese – so Sie möchten – den Workshop-TeilnehmerInnen vorstellen und mit diesen diskutieren können. \n\n\n\nIm Anschluss an das Seminar erhalten Sie weitere Literaturempfehlungen\,praktische Links und Hinweise zur weiteren Vertiefung des Themas. \n\n\n\nMethoden\n\n\n\nTheoretische Teile und praktische Übungen wechseln sich im Praxisseminar ab – Sie werden viel Raum zur Erarbeitung Ihrer eigenen Ideen haben – diese den Workshop-Teilnehmenden vorstellen und mit diesen diskutieren können. Im Anschluss an das Seminar erhalten Sie weitere Literaturempfehlungen\, praktische Links und Hinweise zur weiteren Vertiefung des Themas – und natürlich ein Teilnahmezertifikat. \n\n\n\n\n\n\n\n\n\nReferent\n\n\n\nDiplom-Soziologe Michael Borchardt ist Berater\, Coach und Trainer für Ihre Fragen rund um Content für digitale Kanäle und -Medien. Er bringt langjährige Erfahrung als Informationsmanager in (Groß-)Unternehmen und Verbänden mit. \n\n\n\nTeilnehmeranzahl\n\n\n\nmaximal 10 Personen \n\n\n\nTool / Technik\n\n\n\nBenötigt wird ein internetfähiges Endgerät (PC oder Laptop). In der Regel finden die Seminare über Zoom statt. Für Zoom benötigen Sie zudem eine Webcam sowie ein Headset oder ein anderes Audiosystem. \n\n\n\nKosten\n\n\n\nEUR 88\,00- zzgl. 7% MwSt. (DGI-Mitglieder)EUR 98\,00- zzgl. 7% MwSt. (Nicht-Mitglieder)
URL:https://dgi-info.de/event/onlineseminar-schreibwerkstatt-storytelling/
LOCATION:online\, Deutschland
CATEGORIES:DGI-Praxisseminar
ATTACH;FMTTYPE=image/jpeg:https://dgi-info.de/wp-content/uploads/2020/12/alphabets-1839737_1920-e1608137270123.jpg
ORGANIZER;CN="Deutsche Gesellschaft f%C3%BCr Information und Wissen e.V. (DGI)":MAILTO:mail@dgi-info.de
END:VEVENT
BEGIN:VEVENT
DTSTART;TZID=Europe/Berlin:20230427T170000
DTEND;TZID=Europe/Berlin:20230427T183000
DTSTAMP:20260423T204150
CREATED:20230320T102516Z
LAST-MODIFIED:20230522T131159Z
UID:34869-1682614800-1682620200@dgi-info.de
SUMMARY:Sinn oder Unsinn? Welche Kultur wollen wir mit Sprachmodellen produzieren?
DESCRIPTION:Sie sehen gerade einen Platzhalterinhalt von Standard. Um auf den eigentlichen Inhalt zuzugreifen\, klicken Sie auf den Button unten. Bitte beachten Sie\, dass dabei Daten an Drittanbieter weitergegeben werden.   Inhalt entsperren Erforderlichen Service akzeptieren und Inhalte entsperren  Weitere Informationen \n\n\n\n\n\n\n\n\n\nChatGPT beschäftigt Wissenschaftsbetrieb\, Bildungslandschaft und die Öffentlichkeit. Doch was genau kann das Modell leisten\, wo liegen Grenzen und welche Szenarien sind für den Einsatz im Bereich der musealen Bildung und kuratorischen Praxis denkbar und sinnvoll? Sonja Thiel zeigte vorsichtige Überlegungen aus dem Museumsbereich zum Status und Einsatz von Sprachmodellen. \n\n\n\nReferentin: Sonja Thiel arbeitet seit 2021 am Badischen Landesmuseum Karlsruhe als Digital Catalyst für Künstliche Intelligenz. \n\n\n\n\n\n\n\n\n\n\nSpenden (über Paypal)\n\n\n\n\nHelfen Sie uns mit einer Spende\, die DGI-Vortragsreihe „Künstliche Intelligenz – Vom Wunderkind zum Allrounder“ weiterhin für Teilnehmende gratis anbieten zu können. Vielen Dank! \n\n\n\n\n\n\n\n\n\n\n\n\n\n\n\n\n\n\n\n \n\n\n\n\n\n \n\n\n\n\n\n\n\n\n\nEine Kooperationsveranstaltung der DGI und des IZB des DIPF I Leibniz-Institut für Bildungsforschung und Bildungsinformation.
URL:https://dgi-info.de/event/sinn-oder-unsinn-welche-kultur-wollen-wir-mit-sprachmodellen-produzieren/
LOCATION:online\, gratis
ATTACH;FMTTYPE=image/jpeg:https://dgi-info.de/wp-content/uploads/2023/03/sound-space-g5c371a09a_1920-e1679307772967.jpg
ORGANIZER;CN="Deutsche Gesellschaft f%C3%BCr Information und Wissen e.V. (DGI)":MAILTO:mail@dgi-info.de
END:VEVENT
END:VCALENDAR