BEGIN:VCALENDAR
VERSION:2.0
PRODID:-//Deutsche Gesellschaft für Information &amp; Wissen e.V. - ECPv6.15.20//NONSGML v1.0//EN
CALSCALE:GREGORIAN
METHOD:PUBLISH
X-WR-CALNAME:Deutsche Gesellschaft für Information &amp; Wissen e.V.
X-ORIGINAL-URL:https://dgi-info.de
X-WR-CALDESC:Veranstaltungen für Deutsche Gesellschaft für Information &amp; Wissen e.V.
REFRESH-INTERVAL;VALUE=DURATION:PT1H
X-Robots-Tag:noindex
X-PUBLISHED-TTL:PT1H
BEGIN:VTIMEZONE
TZID:Europe/Berlin
BEGIN:DAYLIGHT
TZOFFSETFROM:+0100
TZOFFSETTO:+0200
TZNAME:CEST
DTSTART:20250330T010000
END:DAYLIGHT
BEGIN:STANDARD
TZOFFSETFROM:+0200
TZOFFSETTO:+0100
TZNAME:CET
DTSTART:20251026T010000
END:STANDARD
BEGIN:DAYLIGHT
TZOFFSETFROM:+0100
TZOFFSETTO:+0200
TZNAME:CEST
DTSTART:20260329T010000
END:DAYLIGHT
BEGIN:STANDARD
TZOFFSETFROM:+0200
TZOFFSETTO:+0100
TZNAME:CET
DTSTART:20261025T010000
END:STANDARD
BEGIN:DAYLIGHT
TZOFFSETFROM:+0100
TZOFFSETTO:+0200
TZNAME:CEST
DTSTART:20270328T010000
END:DAYLIGHT
BEGIN:STANDARD
TZOFFSETFROM:+0200
TZOFFSETTO:+0100
TZNAME:CET
DTSTART:20271031T010000
END:STANDARD
END:VTIMEZONE
BEGIN:VEVENT
DTSTART;TZID=Europe/Berlin:20260422T093000
DTEND;TZID=Europe/Berlin:20260422T120000
DTSTAMP:20260422T020818
CREATED:20250401T094702Z
LAST-MODIFIED:20260126T125949Z
UID:44870-1776850200-1776859200@dgi-info.de
SUMMARY:Recherchestrategie - wo kann KI unterstützen?
DESCRIPTION:Anmelden\n\n\n\n\n\n\n\n\nEine komplexe Recherche bedarf bereits im Vorfeld einiger Vorbereitungen. Auch die Durchführung will wohlüberlegt sein. Dazu gibt es bewährte Methoden\, die wir uns anschauen.Da nun KI überall am Start ist\, stellt sich die Frage\, ob sie auch hier hilfreich sein kann. Welche Aufgaben kann eine textgenerative KI übernehmen und warum? Und welche eher nicht – und warum nicht? \n\n\n\nMethoden\n\n\n\n Inputvortrag\, Kleingruppenarbeit\, Diskussion \n\n\n\n \n\n\n\nReferentin\n\n\n\nHeike Baller bietet seit 1995 Recherchedienstleistungen an. Seit 2013 gibt sie ihr Wissen rund um Suchmaschinen\, OPAC und Recherchestrategie in Seminaren und Workshops weiter\, u. a. an der Universität zu Köln\, dem ZBIW an der TH in Köln und bei verschiedenen Bildungsträgern in der Lehrer*innenfortbildung. \n\n\n\n \n\n\n\nTeilnehmeranzahl\n\n\n\nmaximal 12 Personen \n\n\n\n \n\n\n\nVoraussetzung: \n\n\n\nSie wissen bereits\, wie textgenerative KI grundsätzlich arbeitet\, wo ihre Chancen und Grenzen liegen.  \n\n\n\nAuch Erfahrung mit den Platzhirschen KI-gestützter Recherchetools (Internetrecherche\, keine Literaturrecherche) ist sinnvoll. \n\n\n\nDa einige der Tools einen kostenlosen Account (per E-Mail-Adresse) verlangen\, sollten Sie entweder bereits einen solchen Account haben oder bereit sein\, sich einen anzulegen. \n\n\n\n \n\n\n\nTool / Technik\n\n\n\nBenötigt wird ein internetfähiges Endgerät (PC oder Laptop). In der Regel finden die Seminare über Zoom statt. Für Zoom benötigen Sie eine Webcam sowie ein Headset oder ein anderes Audiosystem. \n\n\n\n \n\n\n\nKosten\n\n\n\nEUR 88\,00- zzgl. 7% MwSt. (DGI-Mitglieder)EUR 104\,00- zzgl. 7% MwSt. (Nicht-Mitglieder)
URL:https://dgi-info.de/event/recherchestrategie-wo-kann-ki-unterstuetzen/
LOCATION:online\, Deutschland
CATEGORIES:DGI-Praxisseminar
ATTACH;FMTTYPE=image/webp:https://dgi-info.de/wp-content/uploads/DALL·E-2025-04-01-11.37.55-A-modern-stylish-image-of-a-person-working-intently-on-a-computer-surrounded-by-digital-search-symbols-data-streams-and-abstract-networks.-In-the-.webp
ORGANIZER;CN="Deutsche Gesellschaft f%C3%BCr Information und Wissen e.V. (DGI)":MAILTO:mail@dgi-info.de
END:VEVENT
END:VCALENDAR