BEGIN:VCALENDAR
VERSION:2.0
PRODID:-//Deutsche Gesellschaft für Information &amp; Wissen e.V. - ECPv6.15.20//NONSGML v1.0//EN
CALSCALE:GREGORIAN
METHOD:PUBLISH
X-WR-CALNAME:Deutsche Gesellschaft für Information &amp; Wissen e.V.
X-ORIGINAL-URL:https://dgi-info.de
X-WR-CALDESC:Veranstaltungen für Deutsche Gesellschaft für Information &amp; Wissen e.V.
REFRESH-INTERVAL;VALUE=DURATION:PT1H
X-Robots-Tag:noindex
X-PUBLISHED-TTL:PT1H
BEGIN:VTIMEZONE
TZID:Europe/Berlin
BEGIN:DAYLIGHT
TZOFFSETFROM:+0100
TZOFFSETTO:+0200
TZNAME:CEST
DTSTART:20250330T010000
END:DAYLIGHT
BEGIN:STANDARD
TZOFFSETFROM:+0200
TZOFFSETTO:+0100
TZNAME:CET
DTSTART:20251026T010000
END:STANDARD
BEGIN:DAYLIGHT
TZOFFSETFROM:+0100
TZOFFSETTO:+0200
TZNAME:CEST
DTSTART:20260329T010000
END:DAYLIGHT
BEGIN:STANDARD
TZOFFSETFROM:+0200
TZOFFSETTO:+0100
TZNAME:CET
DTSTART:20261025T010000
END:STANDARD
BEGIN:DAYLIGHT
TZOFFSETFROM:+0100
TZOFFSETTO:+0200
TZNAME:CEST
DTSTART:20270328T010000
END:DAYLIGHT
BEGIN:STANDARD
TZOFFSETFROM:+0200
TZOFFSETTO:+0100
TZNAME:CET
DTSTART:20271031T010000
END:STANDARD
END:VTIMEZONE
BEGIN:VEVENT
DTSTART;TZID=Europe/Berlin:20260420T140000
DTEND;TZID=Europe/Berlin:20260420T153000
DTSTAMP:20260420T025936
CREATED:20240701T120107Z
LAST-MODIFIED:20251216T200412Z
UID:43636-1776693600-1776699000@dgi-info.de
SUMMARY:Innovativ mit Transkriptionen: Kurse und Besprechungen mit KI auswerten
DESCRIPTION:Anmeldung\n\n\n\n\n\n\n\n\nMeetings und Bildungsveranstaltungen intelligent dokumentieren – mit KI in der Praxis\n\n\n\nIn diesem Online-Seminar erfahren Sie\, wie Sie die Protokollierung von Projektmeetings sowie die Dokumentation von (Online-)Bildung mit Kl optimieren können – live und interaktiv! Gemeinsam werden wir die neuen KI-Funktionen von Zoom wie Whiteboard und Al-Companion ausprobieren und insbesondere die Transkription nutzen\, um den Informationsgehalt des Gesprächs oder der Bildungsveranstaltung kreativ auszuwerten. Erleben Sie das Zusammenwirken verschiedener KI-Tools in einem kreativen Workflow und sagen Sie der herkömmlichen Protokollierung Lebewohl! Heben Sie die Dokumentation von Bildungsveranstaltungen auf ein neues Niveau! \n\n\n\nWas Sie erwartet – kurz und knapp:\n\n\n\n\nNeue Kl-Funktionen in Zoom: Transkription\, Übersetzung\, Whiteboard\, AI-Companion\n\n\n\nAuswertung mit ChatGPT und Perplexity\n\n\n\nHandschrift-\, Flipchartauswertung mit KI\n\n\n\nZusammenfassung in unterschiedlichen Varianten\n\n\n\nErstellung von Q&A aus dem Transkript\n\n\n\nStimmungsanalyse auf Basis des Transkripts\n\n\n\nGrafische Darstellung von Kernaussagen\n\n\n\nProduktion verschiedener Medienformate wie Artikel\, Interview\, Inhalte für Social Media\n\n\n\nAlternative Möglichkeiten der Transkription von Online-Meetings und Online-Kursen und Follow-Up-Optionen\n\n\n\n\nFür diesen interaktiven Workshop verwenden wir hauptsächlich folgende Tools:\n\n\n\n\nZoom\n\n\n\nPerplexity\n\n\n\nChatGPT\n\n\n\n\nDie kostenlosen Versionen sind – mit den entsprechenden Einschränkungen – ausreichend.Dokumentiert wird der Workshop mit einer umfangreichen Linkliste zu Tools und weiterführenden Inhalten. \n\n\n\nReferent\n\n\n\nDavid Röthler ist Jurist\, Berater\, Erwachsenenbildner und Universitätslehrbeauftragter zu Bildung und Medien. Er beschäftigtsich seit einigen Jahren intensiv mit dem Thema „Generative KI“ in der Praxis und hat 20 Jahre Erfahrung als Berater für EU finanzierte Projekte. David Röthler ist Geschäftsführer des Beratungsunternehmens Milenu.at: https://david.roethler.at/ \n\n\n\nTeilnehmeranzahl\n\n\n\nmaximal 15 Personen \n\n\n\nTool / Technik\n\n\n\nBenötigt wird ein internetfähiges Endgerät (PC oder Laptop). In der Regel finden die Seminare über Zoom statt. Für Zoom benötigen Sie eine Webcam sowie ein Headset oder ein anderes Audiosystem. \n\n\n\nKosten\n\n\n\nEUR 88\,00- zzgl. 7% MwSt. (DGI-Mitglieder)EUR 104\,00- zzgl. 7% MwSt. (Nicht-Mitglieder)
URL:https://dgi-info.de/event/innovativ-mit-transkriptionen-kurse-und-besprechungen-mit-ki-auswerten/
LOCATION:online\, Deutschland
CATEGORIES:DGI-Praxisseminar
ATTACH;FMTTYPE=image/jpeg:https://dgi-info.de/wp-content/uploads/keyboard-621831_640-e1719835224174.jpg
ORGANIZER;CN="Deutsche Gesellschaft f%C3%BCr Information und Wissen e.V. (DGI)":MAILTO:mail@dgi-info.de
END:VEVENT
BEGIN:VEVENT
DTSTART;TZID=Europe/Berlin:20260420T170000
DTEND;TZID=Europe/Berlin:20260420T183000
DTSTAMP:20260420T025936
CREATED:20260306T093209Z
LAST-MODIFIED:20260306T162443Z
UID:46164-1776704400-1776709800@dgi-info.de
SUMMARY:Abgecrawlt und Lahmgelegt? CC Signals und RSL - Neue Instrumente zur KI-Fairness
DESCRIPTION:Anmeldung\n\n\n\n\n\n\n\n\nDie von Wissenschafts- und Kulturerbe-Einrichtungen online zur Verfügung gestellten Inhalte (Forschungsdaten\, Publikationen\, Digitalisate) sind für das Training von KI-Modellen eine zentrale Quelle. Gleichzeitig belasten KI-Crawler die digitale Infrastruktur dieser Institutionen erheblich – ohne Gegenleistung. \n\n\n\nDer Vortrag ordnet aktuelle Ansätze und Spezifikationen ein\, die eine gezielte Lenkung des KI-Crawlings und anderer Arten von KI-gestützter Auswertung ermöglichen – auch unter Vereinbarung einer Gegenleistung. Vorgestellt werden Instrumente wie CC Signals\, die Spezifikation RSL 1.0 („Really Simple Licensing“) sowie die in Entwicklung befindlichen AI Preferences der Internet Engineering Task Force IETF. Dabei wird auch die Frage der rechtlichen Verbindlichkeit dieser technischen Signale beleuchtet. \n\n\n\nZiel ist es\, Wege zur KI-Fairness aufzuzeigen\, die jenseits urheberrechtlicher Restriktionen liegen – nach der Leitfrage: Lassen sich Openness und eine Lenkung der Auswertung durch KI vereinbaren?  \n\n\n\nReferent\n\n\n\nFabian Rack ist Mitarbeiter bei FIZ Karlsruhe im Bereich „Immaterialgüterrechte in verteilten Infrastrukturen“ und Rechtsanwalt bei iRights.Law in Berlin. Seine Tätigkeitsschwerpunkte liegen im Datenschutz- und Urheberrecht. Er ist Mitherausgeber und Co-Schriftleiter des CC-Kommentars\, einem Fachbuch zu den Creative Commons-Lizenzen. \n\n\n\nTool / Technik\n\n\n\nBenötigt wird ein internetfähiges Endgerät (PC oder Laptop). In der Regel finden die Seminare über Zoom statt. Für Zoom benötigen Sie zudem eine Webcam sowie ein Headset oder ein anderes Audiosystem. \n\n\n\nKosten\n\n\n\nFür Teilnehmende kostenfrei
URL:https://dgi-info.de/event/abgecrawlt-und-lahmgelegt-cc-signals-und-rsl-neue-instrumente-zur-ki-fairness/
LOCATION:online\, gratis
CATEGORIES:DGI-Vortrag
ATTACH;FMTTYPE=image/png:https://dgi-info.de/wp-content/uploads/Gemini_Generated_Image_es6kufes6kufes6k.png
ORGANIZER;CN="Deutsche Gesellschaft f%C3%BCr Information und Wissen e.V. (DGI)":MAILTO:mail@dgi-info.de
END:VEVENT
END:VCALENDAR