BEGIN:VCALENDAR
VERSION:2.0
PRODID:-//Deutsche Gesellschaft für Information &amp; Wissen e.V. - ECPv6.15.20//NONSGML v1.0//EN
CALSCALE:GREGORIAN
METHOD:PUBLISH
X-WR-CALNAME:Deutsche Gesellschaft für Information &amp; Wissen e.V.
X-ORIGINAL-URL:https://dgi-info.de
X-WR-CALDESC:Veranstaltungen für Deutsche Gesellschaft für Information &amp; Wissen e.V.
REFRESH-INTERVAL;VALUE=DURATION:PT1H
X-Robots-Tag:noindex
X-PUBLISHED-TTL:PT1H
BEGIN:VTIMEZONE
TZID:Europe/Berlin
BEGIN:DAYLIGHT
TZOFFSETFROM:+0100
TZOFFSETTO:+0200
TZNAME:CEST
DTSTART:20230326T010000
END:DAYLIGHT
BEGIN:STANDARD
TZOFFSETFROM:+0200
TZOFFSETTO:+0100
TZNAME:CET
DTSTART:20231029T010000
END:STANDARD
BEGIN:DAYLIGHT
TZOFFSETFROM:+0100
TZOFFSETTO:+0200
TZNAME:CEST
DTSTART:20240331T010000
END:DAYLIGHT
BEGIN:STANDARD
TZOFFSETFROM:+0200
TZOFFSETTO:+0100
TZNAME:CET
DTSTART:20241027T010000
END:STANDARD
BEGIN:DAYLIGHT
TZOFFSETFROM:+0100
TZOFFSETTO:+0200
TZNAME:CEST
DTSTART:20250330T010000
END:DAYLIGHT
BEGIN:STANDARD
TZOFFSETFROM:+0200
TZOFFSETTO:+0100
TZNAME:CET
DTSTART:20251026T010000
END:STANDARD
END:VTIMEZONE
BEGIN:VEVENT
DTSTART;TZID=Europe/Berlin:20240924T093000
DTEND;TZID=Europe/Berlin:20240924T130000
DTSTAMP:20260421T154350
CREATED:20230110T102837Z
LAST-MODIFIED:20240903T113642Z
UID:30944-1727170200-1727182800@dgi-info.de
SUMMARY:Onboarding: Mastodon als freie X (fka Twitter)-Alternative. Eine Reise ins Fediversum
DESCRIPTION:Anmelden\n\n\n\n\n\n\n\n\n\n\nBeschreibung\n\n\n\nElon Musk und Twitter – dieses Pärchen könnte auf Dauer problematisch werden. Aber es gibt ja Alternativen – tröten statt tweeten – mit Mastodon. \n\n\n\nLassen Sie uns also gemeinsam in unser virtuelles Raumschiff steigen und Mastodon als Teil des Fediversum (engl. Fediverse) besuchen. \n\n\n\nErleben Sie aber auch\, welch faszinierende Informationsangebote dieser Verbund von sozialen Netzwerken\, Microblogging- und anderen Informationsdiensten außerdem noch für Sie bereithält. \n\n\n\nIm Seminar lernen Sie: \n\n\n\n\ndie Struktur des Fediversums kennen\n\n\n\neinzelne Dienste wie Mastodon oder PeerTube einschätzen\n\n\n\nsich in verschiedenen freien Kanälen des Fediversum bewegen\n\n\n\ndie für Sie passenden Kanäle auszuwählen und einzusetzen\n\n\n\nSoftware auszuwählen\n\n\n\nBenchmarking\n\n\n\nein rundes Bild in der Außendarstellung zu zeichnen\n\n\n\nu.v.m.\n\n\n\n\nTheoretische Teile und praktische Übungen wechseln sich im Praxisseminar ab – Sie werden viel Raum zur Erarbeitung Ihrer eigenen Ideen haben und diese den Workshop-Teilnehmenden vorstellen und mit diesen diskutieren können. \n\n\n\nIm Anschluss an das Seminar erhalten Sie weitere Literaturempfehlungen\, praktische Links und Hinweise zur weiteren Vertiefung des Themas – und natürlich ein Teilnahmezertifikat. \n\n\n\n\n\n\n\n\n\nReferent\n\n\n\nDiplom-Soziologe Michael Borchardt ist Berater\, Coach und Trainer für Ihre Fragen rund um Content für digitale Kanäle und -Medien. Er bringt langjährige Erfahrung als Informationsmanager in (Groß-)Unternehmen und Verbänden mit. \n\n\n\nTeilnehmeranzahl\n\n\n\nmaximal 10 Personen \n\n\n\nTool / Technik\n\n\n\nBenötigt wird ein internetfähiges Endgerät (PC oder Laptop). In der Regel finden die Seminare über Zoom statt. Für Zoom benötigen Sie zudem eine Webcam sowie ein Headset oder ein anderes Audiosystem. \n\n\n\nKosten\n\n\n\nEUR 88\,00- zzgl. 7% MwSt. (DGI-Mitglieder)EUR 98\,00- zzgl. 7% MwSt. (Nicht-Mitglieder)
URL:https://dgi-info.de/event/mastodon-als-freie-twitter-alternative-eine-reise-in-fediversum/
LOCATION:online\, Deutschland
CATEGORIES:DGI-Praxisseminar
ATTACH;FMTTYPE=image/png:https://dgi-info.de/wp-content/uploads/2022/11/social-media-g3245608f2_1280-e1673263605815.png
ORGANIZER;CN="Deutsche Gesellschaft f%C3%BCr Information und Wissen e.V. (DGI)":MAILTO:mail@dgi-info.de
END:VEVENT
END:VCALENDAR