BEGIN:VCALENDAR
VERSION:2.0
PRODID:-//Deutsche Gesellschaft für Information &amp; Wissen e.V. - ECPv6.15.20//NONSGML v1.0//EN
CALSCALE:GREGORIAN
METHOD:PUBLISH
X-WR-CALNAME:Deutsche Gesellschaft für Information &amp; Wissen e.V.
X-ORIGINAL-URL:https://dgi-info.de
X-WR-CALDESC:Veranstaltungen für Deutsche Gesellschaft für Information &amp; Wissen e.V.
REFRESH-INTERVAL;VALUE=DURATION:PT1H
X-Robots-Tag:noindex
X-PUBLISHED-TTL:PT1H
BEGIN:VTIMEZONE
TZID:Europe/Berlin
BEGIN:DAYLIGHT
TZOFFSETFROM:+0100
TZOFFSETTO:+0200
TZNAME:CEST
DTSTART:20230326T010000
END:DAYLIGHT
BEGIN:STANDARD
TZOFFSETFROM:+0200
TZOFFSETTO:+0100
TZNAME:CET
DTSTART:20231029T010000
END:STANDARD
BEGIN:DAYLIGHT
TZOFFSETFROM:+0100
TZOFFSETTO:+0200
TZNAME:CEST
DTSTART:20240331T010000
END:DAYLIGHT
BEGIN:STANDARD
TZOFFSETFROM:+0200
TZOFFSETTO:+0100
TZNAME:CET
DTSTART:20241027T010000
END:STANDARD
BEGIN:DAYLIGHT
TZOFFSETFROM:+0100
TZOFFSETTO:+0200
TZNAME:CEST
DTSTART:20250330T010000
END:DAYLIGHT
BEGIN:STANDARD
TZOFFSETFROM:+0200
TZOFFSETTO:+0100
TZNAME:CET
DTSTART:20251026T010000
END:STANDARD
END:VTIMEZONE
BEGIN:VEVENT
DTSTART;TZID=Europe/Berlin:20240920T120000
DTEND;TZID=Europe/Berlin:20240920T180000
DTSTAMP:20260421T124031
CREATED:20240726T123620Z
LAST-MODIFIED:20240726T123627Z
UID:43799-1726833600-1726855200@dgi-info.de
SUMMARY:Workshop „Informationskompetenz und Künstliche Intelligenz“
DESCRIPTION:Der Workshop  „Informationskompetenz und Künstliche Intelligenz“ möchte Informationswissenschaftler:innen\, die im weiteren Themenfeld tätig sind\, vernetzen und das Thema „Informationskompetenz und Künstliche Intelligenz“ unter einer forschungsbezogenen Perspektive diskutieren. Im Workshop stehen folgende Fragestellungen im Fokus: \n\n\n\n\nWelche Auswirkungen hat Künstliche Intelligenz auf bestehende Konzepte der Informationskompetenz?\n\n\n\nWelche neuen Fragestellungen ergeben sich aus Künstlicher Intelligenz für  informationswissenschaftliche Forschung im Bereich Informationskompetenz?\n\n\n\nWelche Herausforderungen und Chancen ergeben sich in der Förderung von Informationskompetenz durch Künstliche Intelligenz?\n\n\n\n\nIm Anschluss ist ein gemeinsames Abendessen geplant.  \n\n\n\nDie Fachgruppe Informationskompetenz der KIBA lädt die Mitglieder der DGI herzlich zur Teilnahme ein. Es fallen keine Teilnahmegebühren an. \n\n\n\nWenn Sie Fragen haben oder an dem Workshop teilnehmen wollen\, melden Sie sich bitte bei Magdalena Dresler (dresler@uni-hildesheim.de). \n\n\n\n\n\n\n\n\n\n\n\n\n\n\n\nProgramm\n\n\n\n11:30 Uhr – Ankunft der Teilnehmer/innen\, kleiner Imbiss \n\n\n\n12:00 Uhr – Begrüßung und Vorstellung \n\n\n\n12:30 Uhr – Welche Auswirkungen hat Künstliche Intelligenz auf bestehende Konzepte der Informationskompetenz? \n\n\n\n13:30–14:45 Uhr – Welche neuen Fragestellungen ergeben sich aus Künstlicher Intelligenz für informationswissenschaftliche Forschung im Bereich Informationskompetenz? \n\n\n\n15:15–16:30 Uhr – Welche Herausforderungen und Chancen ergeben sich in der Förderung von Informationskompetenz durch Künstliche Intelligenz? \n\n\n\n16:45–18:00 Uhr – Nächste Schritte\, Handlungsoptionen\, Perspektiven \n\n\n\n18:00–18:15 Uhr – Reflexion und Verabschiedung \n\n\n\n19:00 Uhr – Gemeinsames Abendessen \n\n\n\n\n\n\n\n\n\n\n\n\n\nHochschule Hannover\, Dr. Anke Wittich\, anke.wittich@hs-hannover.de \n\n\n\nUniversität Hildesheim\, Dr. Joachim Griesbaum\, joachim.griesbaum\, Prof. Dr. Thomas Mandl\, mandl@uni-hildesheim.de \n\n\n\nFachhochschule Kärnten\, Dr. Stefan Dreisiebner\, S.Dreisiebner@fh-kaernten.at \n\n\n\n\n\nTechnische Hochschule Köln\, Prof. Dr. Inka Tappenbeck\, inka.tappenbeck@th-koeln.de \n\n\n\nFachhochschule Potsdam\, Prof. Dr. Antje Michel\, antje.michel@fh-potsdam.de
URL:https://dgi-info.de/event/workshop-informationskompetenz-und-kuenstliche-intelligenz/
LOCATION:Universität Hildesheim\, Bühler Campus\, Lübeckerstraße 3\, L046\, HIldesheim\, 31141\, Deutschland
ATTACH;FMTTYPE=image/jpeg:https://dgi-info.de/wp-content/uploads/hildesheim-germany-673383_640-e1721996824940.jpg
END:VEVENT
END:VCALENDAR