BEGIN:VCALENDAR
VERSION:2.0
PRODID:-//Deutsche Gesellschaft für Information &amp; Wissen e.V. - ECPv6.15.20//NONSGML v1.0//EN
CALSCALE:GREGORIAN
METHOD:PUBLISH
X-WR-CALNAME:Deutsche Gesellschaft für Information &amp; Wissen e.V.
X-ORIGINAL-URL:https://dgi-info.de
X-WR-CALDESC:Veranstaltungen für Deutsche Gesellschaft für Information &amp; Wissen e.V.
REFRESH-INTERVAL;VALUE=DURATION:PT1H
X-Robots-Tag:noindex
X-PUBLISHED-TTL:PT1H
BEGIN:VTIMEZONE
TZID:Europe/Berlin
BEGIN:DAYLIGHT
TZOFFSETFROM:+0100
TZOFFSETTO:+0200
TZNAME:CEST
DTSTART:20230326T010000
END:DAYLIGHT
BEGIN:STANDARD
TZOFFSETFROM:+0200
TZOFFSETTO:+0100
TZNAME:CET
DTSTART:20231029T010000
END:STANDARD
BEGIN:DAYLIGHT
TZOFFSETFROM:+0100
TZOFFSETTO:+0200
TZNAME:CEST
DTSTART:20240331T010000
END:DAYLIGHT
BEGIN:STANDARD
TZOFFSETFROM:+0200
TZOFFSETTO:+0100
TZNAME:CET
DTSTART:20241027T010000
END:STANDARD
BEGIN:DAYLIGHT
TZOFFSETFROM:+0100
TZOFFSETTO:+0200
TZNAME:CEST
DTSTART:20250330T010000
END:DAYLIGHT
BEGIN:STANDARD
TZOFFSETFROM:+0200
TZOFFSETTO:+0100
TZNAME:CET
DTSTART:20251026T010000
END:STANDARD
END:VTIMEZONE
BEGIN:VEVENT
DTSTART;TZID=Europe/Berlin:20240205T170000
DTEND;TZID=Europe/Berlin:20240205T190000
DTSTAMP:20260421T123839
CREATED:20231218T195354Z
LAST-MODIFIED:20240122T120757Z
UID:39611-1707152400-1707159600@dgi-info.de
SUMMARY:Die Zukunft der Suchmaschinen
DESCRIPTION:Anmelden\n\n\n\n\n\n\n\n\n\n\nDie Zukunft der Suchmaschinen\n\n\n\nÄndert sich bei den Suchmaschinen – wieder einmal – alles? Mit dem Aufkommen von generativen Sprachmodellen und insbesondere ChatGPT stellt sich die Frage\, wie die Informationssuche im Internet gestaltet werden soll\, aufs Neue. Wird es endlich gelingen\, informationssuchenden Personen genau die maßgeschneiderten Antworten zu geben\, nach denen sie verlangen? Wird dies das Ende der Suchergebnisse als Listen von Dokumenten bedeuten? Und wie wirkt sich diese neue „Antwortkultur“ auf die Suchmaschinenbetreiber und die Anbieter von Inhalten aus? Der Vortrag wagt einen Blick in die nähere Zukunft von Suchmaschinen wie Google und Bing\, geht aber auch auf die Rolle von spezialisierten Suchsystemen\, wie sie beispielsweise von Informationseinrichtungen angeboten werden\, ein. \n\n\n\nEine Kooperationsveranstaltung der DGI und des Informationszentrums Bildung (IZB) des DIPF I Leibniz-Institut für Bildungsforschung und Bildungsinformation. \n\n\n\n\n\n\n\n\n\nReferent\n\n\n\nDirk Lewandowski ist Vertretungsprofessor für Data Science an der Universität Duisburg-Essen sowie Professor für Information Research & Information Retrieval an der Hochschule für Angewandte Wissenschaften Hamburg. Seine Forschungsinteressen sind Web Information Retrieval\, Data Science\, Qualitätsfaktoren von Suchmaschinen\, das Rechercheverhalten der Suchmaschinen-Nutzer sowie die gesellschaftlichen Auswirkungen des Umgangs mit Web-Suchmaschinen. \n\n\n\nZu seinen Veröffentlichungen gehören das Buch Suchmaschinen verstehen (Springer; 3. Auflage 2021) sowie zahlreicher Aufsätze\, die in deutschen und internationalen Fachpublikationen veröffentlicht wurden. Er ist Mitherausgeber der Grundlagen der Informationswissenschaft (De Gruyter\, 2023). \n\n\n\nSeit 2021 ist er einer der Distinguished Members der Association for Information Science & Technology (ASIS&T). Er ist Mitglied der Editorial Boards von Journal of the Association for Information Science & Technology (JASIST)\, Annual Review of Information Science & Technology (ARIST) und Information Wissenschaft und Praxis (IWP). \n\n\n\nhttps://searchstudies.org/dirk \n\n\n\nTeilnehmeranzahl\n\n\n\nKeine Beschränkung \n\n\n\nTool / Technik\n\n\n\nBenötigt wird ein internetfähiges Endgerät (PC oder Laptop). In der Regel finden die Seminare über Zoom statt. Für Zoom benötigen Sie zudem eine Webcam sowie ein Headset oder ein anderes Audiosystem. \n\n\n\nKosten\n\n\n\nfür Teilnehmende kostenfrei
URL:https://dgi-info.de/event/die-zukunft-der-suchmaschinen/
LOCATION:online\, gratis
ATTACH;FMTTYPE=image/jpeg:https://dgi-info.de/wp-content/uploads/2023/01/eye-g78c273d85_1920.jpg
ORGANIZER;CN="Deutsche Gesellschaft f%C3%BCr Information und Wissen e.V. (DGI)":MAILTO:mail@dgi-info.de
END:VEVENT
END:VCALENDAR