BEGIN:VCALENDAR
VERSION:2.0
PRODID:-//Deutsche Gesellschaft für Information &amp; Wissen e.V. - ECPv6.15.20//NONSGML v1.0//EN
CALSCALE:GREGORIAN
METHOD:PUBLISH
X-ORIGINAL-URL:https://dgi-info.de
X-WR-CALDESC:Veranstaltungen für Deutsche Gesellschaft für Information &amp; Wissen e.V.
REFRESH-INTERVAL;VALUE=DURATION:PT1H
X-Robots-Tag:noindex
X-PUBLISHED-TTL:PT1H
BEGIN:VTIMEZONE
TZID:Europe/Berlin
BEGIN:DAYLIGHT
TZOFFSETFROM:+0100
TZOFFSETTO:+0200
TZNAME:CEST
DTSTART:20230326T010000
END:DAYLIGHT
BEGIN:STANDARD
TZOFFSETFROM:+0200
TZOFFSETTO:+0100
TZNAME:CET
DTSTART:20231029T010000
END:STANDARD
BEGIN:DAYLIGHT
TZOFFSETFROM:+0100
TZOFFSETTO:+0200
TZNAME:CEST
DTSTART:20240331T010000
END:DAYLIGHT
BEGIN:STANDARD
TZOFFSETFROM:+0200
TZOFFSETTO:+0100
TZNAME:CET
DTSTART:20241027T010000
END:STANDARD
BEGIN:DAYLIGHT
TZOFFSETFROM:+0100
TZOFFSETTO:+0200
TZNAME:CEST
DTSTART:20250330T010000
END:DAYLIGHT
BEGIN:STANDARD
TZOFFSETFROM:+0200
TZOFFSETTO:+0100
TZNAME:CET
DTSTART:20251026T010000
END:STANDARD
END:VTIMEZONE
BEGIN:VEVENT
DTSTART;TZID=Europe/Berlin:20240125T093000
DTEND;TZID=Europe/Berlin:20240125T123000
DTSTAMP:20260421T125134
CREATED:20231214T150412Z
LAST-MODIFIED:20240123T120936Z
UID:39595-1706175000-1706185800@dgi-info.de
SUMMARY:KI-Schreibwerkstatt I für Anfänger:innen mit keinem oder wenig Vorwissen
DESCRIPTION:Anmelden\n\n\n\n\n\n\n\n\n\n\nKI-basierte Texttools für die eigene Arbeit nutzen\n\n\n\nDurch die Veröffentlichung von ChatGPT stehen generative Tools auf Basis von Künstlicher Intelligenz (KI) nun auch im Fokus der breiten Öffentlichkeit. Diese basieren zumeist auf Large Language Models LLM und können sprachlich erstaunlich gute Texte produzieren. Dadurch entsteht der Eindruck\, dass auch der Inhalt korrekt sein muss. Doch noch oft „halluzinieren“ diese Anwendungen. Zudem stellen sich rechtliche Fragen – woher werden die Textteile genommen? Was passiert mit den Eingaben? \n\n\n\nDieses Praxisseminar führt Sie für eine erste Orientierung in die Welt der generativen KI-Tools ein. Sie erhalten einen Einblick in die Entwicklung und Funktionsweise und können dann selbst eine konkrete Aufgabe bearbeiten. \n\n\n\nIm Anschluss diskutieren wir Ihre Eindrücke und Fragen: Könnten Sie sich vorstellen\, ein KI-Tool in Ihre Arbeitsabläufe zu integrieren? Welche Aufgaben ließen sich mit KI-Tools unterstützen? Welche Hürden sehen Sie? Welche Chancen und Herausforderungen ergeben sich durch die rasante Entwicklung wie ChatGTP und andere Anwendungen? \n\n\n\nFolgende Tools werden vorgestellt:\n\n\n\n\nChatGPT: https://chat.openai.com/ (Anmeldung mit E-Mail-Adresse und Telefonnummer erforderlich; kostenlose Version vorhanden; browserbasiert)\n\n\n\nPerplexity: https://www.perplexity.ai/ (Anmeldung nicht notwendig)\n\n\n\nBingChat: https://bing.com/chat Browsererweiterung für Chrome. (ohne Anmeldung begrenzter Funktinsumfang auf Basis von GPT-4)\n\n\n\n\n \n\n\n\nMethoden: \n\n\n\nImpulsvortrag\, Einzelarbeit\, Teamarbeit\, Diskussion \n\n\n\n\n\n\n\n\n\nReferentin: \n\n\n\nJohanna Gröpler ist stellvertretende Teamleiterin Auskunft & Teaching Library\, Schreibberatung an der Universitätsbibliothek der Freien Universität Berlin. Sie ist Gründungsmitglied des virtuellen Kompetenzzentrums „Schreiben lehren und lernen mit KI“ sowie des Vorstand des Vereins PARWIN Promoting Academic Research and Writing – an International Network \n\n\n\nTeilnehmeranzahl:\n\n\n\nmaximal 15 Personen \n\n\n\nTechnik:\n\n\n\nBenötigt wird ein internetfähiges Endgerät (PC oder Laptop). In der Regel finden die Seminare über Zoom statt. Für Zoom benötigen Sie zudem eine Webcam sowie ein Headset oder ein anderes Audiosystem. \n\n\n\nTools:\n\n\n\nFür eine aktive Bearbeitung einer konkreten Aufgabe im Seminar ist es ratsam\, wenn Sie sich vorab bei den aufgeführten Tools anmelden\, sofern dies notwendig ist (s. Liste) \n\n\n\nKosten:\n\n\n\nEUR 88\,00- zzgl. 7% MwSt. (DGI-Mitglieder)EUR 98\,00- zzgl. 7% MwSt. (Nicht-Mitglieder)
URL:https://dgi-info.de/event/ki-schreibwerkstatt-i-fuer-anfaengerinnen-mit-keinem-oder-wenig-vorwissen/
LOCATION:online\, Deutschland
ATTACH;FMTTYPE=image/jpeg:https://dgi-info.de/wp-content/uploads/2023/04/brain-g4c5bb46ce_1920-e1682442951791.jpg
ORGANIZER;CN="Deutsche Gesellschaft f%C3%BCr Information und Wissen e.V. (DGI)":MAILTO:mail@dgi-info.de
END:VEVENT
BEGIN:VEVENT
DTSTART;TZID=Europe/Berlin:20240125T093000
DTEND;TZID=Europe/Berlin:20240125T130000
DTSTAMP:20260421T125134
CREATED:20230110T120548Z
LAST-MODIFIED:20240122T120655Z
UID:30970-1706175000-1706187600@dgi-info.de
SUMMARY:Metaversum – welche Chancen eröffnen sich für Informationsanbieter?
DESCRIPTION:Anmelden\n\n\n\n\n\n\n\n\n\n\nBibliotheken und andere Informationsanbieter haben die Chance\, bei der inhaltlichen Gestaltung des „Web 4.0“ (Metaversum / engl. Metaverse) ganz vorne dabei zu sein. Hierbei geht es ausdrücklich nicht darum\, nur dem nächsten Hype aus dem Silicon Valley zu folgen\, sondern Ihren Nutzern oder Kundinnen ganz neue Möglichkeiten der Wissensgenerierung und der Interaktion zu ermöglichen. Die physische Realität fließt mit der digitalen in der „phygitalen“ Welt zusammen und schafft so nie gekannte Erlebnisräume. \n\n\n\nIm Seminar lernen Sie:\n\n\n\n\nFormen des Metaversums kennen\n\n\n\ndie Bedeutung des Metaversums für Ihr Dienstleistungsangebot einzuschätzen\n\n\n\nKommunikations-/Interaktionskanäle des Metaversums und deren Besonderheiten kennen\n\n\n\ndie Möglichkeiten des Metaversums in Ihre Marketing-/PR-Strategie zu integrieren\n\n\n\nein rundes Bild in der Außendarstellung zu zeichnen\n\n\n\nu.v.m.\n\n\n\n\nIm Anschluss an das Seminar erhalten Sie weitere Literaturempfehlungen\, praktische Links und Hinweise zur weiteren Vertiefung des Themas – und natürlich ein Teilnahmezertifikat. \n\n\n\n\n\n\n\n\n\nReferent:Diplom-Soziologe Michael Borchardt ist Berater\, Coach und Trainer für Ihre Fragen rund um Content für digitale Kanäle und -Medien. Er bringt langjährige Erfahrung als Informationsmanager in (Groß-)Unternehmen und Verbänden mit. \n\n\n\nTeilnehmeranzahl:maximal 10 Personen \n\n\n\nTool / Technik:Benötigt wird ein internetfähiges Endgerät (PC oder Laptop). In der Regel finden die Seminare über Zoom statt. Für Zoom benötigen Sie zudem eine Webcam sowie ein Headset oder ein anderes Audiosystem. \n\n\n\nMethoden:Theoretische Teile und praktische Übungen wechseln sich im Praxisseminar ab – und Sie werden viel Raum zur Erarbeitung Ihrer eigenen Ideen haben und diese den Workshop-Teilnehmenden vorstellen und mit diesen diskutieren können. \n\n\n\nKosten:EUR 88\,00- zzgl. 7% MwSt. (DGI-Mitglieder)EUR 98\,00- zzgl. 7% MwSt. (Nicht-Mitglieder)
URL:https://dgi-info.de/event/metaversum-welche-chancen-eroeffnen-sich-fuer-informationsanbieter-2/
LOCATION:online\, Deutschland
CATEGORIES:DGI-Praxisseminar
ATTACH;FMTTYPE=image/jpeg:https://dgi-info.de/wp-content/uploads/2022/06/metaverse-7199393_1920-e1655733766358.jpg
ORGANIZER;CN="Deutsche Gesellschaft f%C3%BCr Information und Wissen e.V. (DGI)":MAILTO:mail@dgi-info.de
END:VEVENT
END:VCALENDAR