BEGIN:VCALENDAR
VERSION:2.0
PRODID:-//Deutsche Gesellschaft für Information &amp; Wissen e.V. - ECPv6.15.20//NONSGML v1.0//EN
CALSCALE:GREGORIAN
METHOD:PUBLISH
X-ORIGINAL-URL:https://dgi-info.de
X-WR-CALDESC:Veranstaltungen für Deutsche Gesellschaft für Information &amp; Wissen e.V.
REFRESH-INTERVAL;VALUE=DURATION:PT1H
X-Robots-Tag:noindex
X-PUBLISHED-TTL:PT1H
BEGIN:VTIMEZONE
TZID:Europe/Berlin
BEGIN:DAYLIGHT
TZOFFSETFROM:+0100
TZOFFSETTO:+0200
TZNAME:CEST
DTSTART:20220327T010000
END:DAYLIGHT
BEGIN:STANDARD
TZOFFSETFROM:+0200
TZOFFSETTO:+0100
TZNAME:CET
DTSTART:20221030T010000
END:STANDARD
BEGIN:DAYLIGHT
TZOFFSETFROM:+0100
TZOFFSETTO:+0200
TZNAME:CEST
DTSTART:20230326T010000
END:DAYLIGHT
BEGIN:STANDARD
TZOFFSETFROM:+0200
TZOFFSETTO:+0100
TZNAME:CET
DTSTART:20231029T010000
END:STANDARD
BEGIN:DAYLIGHT
TZOFFSETFROM:+0100
TZOFFSETTO:+0200
TZNAME:CEST
DTSTART:20240331T010000
END:DAYLIGHT
BEGIN:STANDARD
TZOFFSETFROM:+0200
TZOFFSETTO:+0100
TZNAME:CET
DTSTART:20241027T010000
END:STANDARD
END:VTIMEZONE
BEGIN:VEVENT
DTSTART;TZID=Europe/Berlin:20230511T093000
DTEND;TZID=Europe/Berlin:20230511T120000
DTSTAMP:20260423T204150
CREATED:20230110T143907Z
LAST-MODIFIED:20230321T155134Z
UID:31016-1683797400-1683806400@dgi-info.de
SUMMARY:Alles Google oder was?
DESCRIPTION:Anmelden\n\n\n\n\n\n\n\n\n\n\nKennen Sie weitere Suchmaschine? Sicher. \n\n\n\nNutzen Sie andere Suchmaschinen? Hm. \n\n\n\nObwohl viele schon von Google-Alternativen gehört haben\, ist der Marktanteil von Google fast ein Monopol zu nennen. \n\n\n\nWoran liegt das und warum kann es sinnvoll sein\, auch die Alternativen zu nutzen? \n\n\n\nIn diesem Webinar \n\n\n\n\nerfahren Sie\, wie Suchmaschinen überhaupt arbeiten\n\n\n\nlernen Sie verschiedene Suchmaschinen kennen\n\n\n\nkönnen Sie Google-Alternativen testen\n\n\n\n\n\n\n\n\n\n\nReferentin:Heike Baller bietet seit 1995 Recherchedienstleistungen an. Seit 2013 gibt sie ihr Wissen rund um Suchmaschinen\, OPAC und Recherchestrategie in Seminaren und Workshops weiter\, u. a. an der Universität zu Köln\, dem ZBIW an der TH in Köln und bei verschiedenen Bildungsträgern in der Lehrer*innenfortbildung. \n\n\n\nTeilnehmeranzahl:maximal 10 Personen \n\n\n\nTool / Technik:Benötigt wird ein internetfähiges Endgerät (PC oder Laptop). In der Regel finden die Seminare über Zoom statt. Für Zoom benötigen Sie eine Webcam sowie ein Headset oder ein anderes Audiosystem. \n\n\n\nKosten:EUR 88\,00- zzgl. 7% MwSt. (DGI-Mitglieder)EUR 98\,00- zzgl. 7% MwSt. (Nicht-Mitglieder)
URL:https://dgi-info.de/event/alles-google-oder-was/
LOCATION:online\, Deutschland
CATEGORIES:DGI-Praxisseminar
ATTACH;FMTTYPE=image/jpeg:https://dgi-info.de/wp-content/uploads/2023/01/eye-g78c273d85_1920.jpg
ORGANIZER;CN="Deutsche Gesellschaft f%C3%BCr Information und Wissen e.V. (DGI)":MAILTO:mail@dgi-info.de
END:VEVENT
END:VCALENDAR